BEGIN:VCALENDAR
VERSION:2.0
PRODID:-//eventon.com NONSGML v1.0//EN
CALSCALE:GREGORIAN
METHOD:PUBLISH
BEGIN:VEVENT
UID:69e5e7d15d375
DTSTAMP:20260420T084609Z
DTSTART:20250912T130000Z
DTEND:20250912T170000Z
LOCATION:KulturQuartier Schauspielhaus Klostergang 4
SUMMARY:FreitagsCafé
DESCRIPTION:KOMMt vorbei\,  entspannt in unserem Park und KOMMt mit Akteur:
 innen des KulturQuartier bei einem Getränk ins Gespräch! Foto © Pexels 
 Das KulturQuartierFestival 2025 wird unterstützt im Rahmen des #erfurtkult
 ursommer von der Landeshauptstadt Erfurt und der Sparkasse Mittelthüringen
 .\nhttps://www.kulturquartier-erfurt.de/events/freitagscafe/
URL:https://www.kulturquartier-erfurt.de/events/freitagscafe/
END:VEVENT
END:VCALENDAR